BEGIN:VCALENDAR
VERSION:2.0
PRODID:-//TC Heinrichsegen Ehringshausen - ECPv4.9.14//NONSGML v1.0//EN
CALSCALE:GREGORIAN
METHOD:PUBLISH
X-WR-CALNAME:TC Heinrichsegen Ehringshausen
X-ORIGINAL-URL:https://www.tc-ehringshausen.de
X-WR-CALDESC:Veranstaltungen im TC Heinrichsegen Ehringshausen
BEGIN:VTIMEZONE
TZID:Europe/Berlin
BEGIN:DAYLIGHT
TZOFFSETFROM:+0100
TZOFFSETTO:+0200
TZNAME:CEST
DTSTART:20260329T010000
END:DAYLIGHT
BEGIN:STANDARD
TZOFFSETFROM:+0200
TZOFFSETTO:+0100
TZNAME:CET
DTSTART:20261025T010000
END:STANDARD
END:VTIMEZONE
BEGIN:VEVENT
DTSTART;TZID=Europe/Berlin:20260207T140000
DTEND;TZID=Europe/Berlin:20260207T170000
DTSTAMP:20260424T141114
CREATED:20251013T191551Z
LAST-MODIFIED:20260119T200637Z
UID:2022-1770472800-1770483600@www.tc-ehringshausen.de
SUMMARY:Winterwanderung
DESCRIPTION:Gerne vormerken – am 7. Februar 2026 findet wieder die Winterwanderung des TC Ehringshausens statt\, die vom 1. Vorsitzenden Steffen Bergmann organisiert wird. Alle Mitglieder des Vereins und der Mannschaftsspielgemeinschaften sind herzlich eingeladen. Familie und Freunde können gerne mitgebracht werden. Die Veranstaltung ist auch offen für alle\, die den Tennisverein einmal kennenlernen möchten. \nProgramm: \n\nStart: 14:00 Uhr an der Sport- und Gaststätte FC Werdorf „Abseits“ (Bahnhofstraße 1a\, 35614 Aßlar-Werdorf)\nRoute: Rundroute von Werdorf nach Ehringshausen und zurück\nZwischenstopp: Terrasse des TCHE mit Imbiss und Getränken\nAbschluss: Rückkehr um ca. 17:00 Uhr zur Sport- und Gaststätte FC Werdorf „Abseits“ mit anschließendem Ausklang\n\nAnmeldung: Bis zum 4. Februar per Anmeldeliste in der Tennishalle oder E-Mail an sb@bergmann-mueller.de \n
URL:https://www.tc-ehringshausen.de/event/winterwanderung
CATEGORIES:offene Veranstaltung,Sonstiges
ORGANIZER;CN="TC%20H.%20Ehringshausen":MAILTO:info@tc-ehringshausen.de
END:VEVENT
END:VCALENDAR