BEGIN:VCALENDAR
VERSION:2.0
PRODID:-//TC Heinrichsegen Ehringshausen - ECPv4.9.14//NONSGML v1.0//EN
CALSCALE:GREGORIAN
METHOD:PUBLISH
X-WR-CALNAME:TC Heinrichsegen Ehringshausen
X-ORIGINAL-URL:https://www.tc-ehringshausen.de
X-WR-CALDESC:Veranstaltungen im TC Heinrichsegen Ehringshausen
BEGIN:VTIMEZONE
TZID:Europe/Berlin
BEGIN:DAYLIGHT
TZOFFSETFROM:+0100
TZOFFSETTO:+0200
TZNAME:CEST
DTSTART:20240331T010000
END:DAYLIGHT
BEGIN:STANDARD
TZOFFSETFROM:+0200
TZOFFSETTO:+0100
TZNAME:CET
DTSTART:20241027T010000
END:STANDARD
END:VTIMEZONE
BEGIN:VEVENT
DTSTART;TZID=Europe/Berlin:20240824T190000
DTEND;TZID=Europe/Berlin:20240824T190000
DTSTAMP:20260424T195006
CREATED:20240622T183201Z
LAST-MODIFIED:20240721T182757Z
UID:1899-1724526000-1724526000@www.tc-ehringshausen.de
SUMMARY:Party "Summer Vibes"
DESCRIPTION:Am Samstag\, den 24. August ab 19:00 Uhr\, sind alle Clubmitglieder\, Spielerinnen und Spieler der Mannschaftsspielgemeinschaften sowie Freunde des Vereins zur Sommerparty eingeladen.  \nEs erwartet euch leckeres Essen\, eine Cocktail-Bar und tanzbare Musik by DJ Markus. Anmelden könnt ihr euch bis zum 21. August über das Online-Formular oder die Liste im Clubhaus. \n  \n
URL:https://www.tc-ehringshausen.de/event/sommerparty-24-08-2024
LOCATION:Tennisanlage TC H. Ehringshausen\, Eisensteinweg\, Ehringshausen\, 35630\, Deutschland
CATEGORIES:clubinterne Veranstaltung
ORGANIZER;CN="TC%20H.%20Ehringshausen":MAILTO:info@tc-ehringshausen.de
END:VEVENT
END:VCALENDAR