BEGIN:VCALENDAR
VERSION:2.0
PRODID:-//TC Heinrichsegen Ehringshausen - ECPv4.9.14//NONSGML v1.0//EN
CALSCALE:GREGORIAN
METHOD:PUBLISH
X-WR-CALNAME:TC Heinrichsegen Ehringshausen
X-ORIGINAL-URL:https://www.tc-ehringshausen.de
X-WR-CALDESC:Veranstaltungen im TC Heinrichsegen Ehringshausen
BEGIN:VTIMEZONE
TZID:Europe/Berlin
BEGIN:DAYLIGHT
TZOFFSETFROM:+0100
TZOFFSETTO:+0200
TZNAME:CEST
DTSTART:20250330T010000
END:DAYLIGHT
BEGIN:STANDARD
TZOFFSETFROM:+0200
TZOFFSETTO:+0100
TZNAME:CET
DTSTART:20251026T010000
END:STANDARD
END:VTIMEZONE
BEGIN:VEVENT
DTSTART;TZID=Europe/Berlin:20250830T140000
DTEND;TZID=Europe/Berlin:20250830T140000
DTSTAMP:20260424T161422
CREATED:20250516T223911Z
LAST-MODIFIED:20250516T224227Z
UID:2093-1756562400-1756562400@www.tc-ehringshausen.de
SUMMARY:Damen 40: TCHE vs. TC Annerod
DESCRIPTION:Heimspiel der Damen 40 TCHE gegen TC Annerod. \nSpielklasse: Gruppenliga \n
URL:https://www.tc-ehringshausen.de/event/damen-40-tche-vs-tc-annerod
LOCATION:Tennisanlage TC H. Ehringshausen\, Eisensteinweg\, Ehringshausen\, 35630\, Deutschland
CATEGORIES:Heimspiel
ORGANIZER;CN="Hessischer%20Tennis-Verband%20e.%20V.":MAILTO:zentrale@htv-tennis.de
END:VEVENT
END:VCALENDAR